BEGIN:VCALENDAR
VERSION:2.0
PRODID:-//Harby Parish Council//Meeting Calendar//EN
CALSCALE:GREGORIAN
METHOD:PUBLISH
BEGIN:VEVENT
UID:70440-20230202@harbyparishcouncil.gov.uk
DTSTAMP:20260423T104829Z
DTSTART;VALUE=DATE:20230202
DTEND;VALUE=DATE:20230203
SUMMARY:Council Meeting &#8211\\; 2nd February 2023
DESCRIPTION:Full Council Meeting\nView details: https://harbyparishcouncil.gov.uk/meetings/council-meeting-2nd-february-2023/
URL:https://harbyparishcouncil.gov.uk/meetings/council-meeting-2nd-february-2023/
END:VEVENT
END:VCALENDAR
