BEGIN:VCALENDAR
VERSION:2.0
PRODID:-//Harby Parish Council//Meeting Calendar//EN
CALSCALE:GREGORIAN
METHOD:PUBLISH
BEGIN:VEVENT
UID:70461-20190404@harbyparishcouncil.gov.uk
DTSTAMP:20260421T082917Z
DTSTART;VALUE=DATE:20190404
DTEND;VALUE=DATE:20190405
SUMMARY:Annual Meeting of Electors &#8211\\; 4th April 2019
DESCRIPTION:Annual Parish Meeting Meeting\nView details: https://harbyparishcouncil.gov.uk/meetings/annual-meeting-4th-april-2019/
URL:https://harbyparishcouncil.gov.uk/meetings/annual-meeting-4th-april-2019/
END:VEVENT
END:VCALENDAR
