BEGIN:VCALENDAR
VERSION:2.0
PRODID:-//Harby Parish Council//Meeting Calendar//EN
CALSCALE:GREGORIAN
METHOD:PUBLISH
BEGIN:VEVENT
UID:70466-20200319@harbyparishcouncil.gov.uk
DTSTAMP:20260419T120502Z
DTSTART;VALUE=DATE:20200319
DTEND;VALUE=DATE:20200320
SUMMARY:Council Meeting &#8211\\; 19th March 2020
DESCRIPTION:Full Council Meeting\nView details: https://harbyparishcouncil.gov.uk/meetings/council-meeting-19th-march-2020/
URL:https://harbyparishcouncil.gov.uk/meetings/council-meeting-19th-march-2020/
END:VEVENT
END:VCALENDAR
