BEGIN:VCALENDAR
VERSION:2.0
PRODID:-//Harby Parish Council//Meeting Calendar//EN
CALSCALE:GREGORIAN
METHOD:PUBLISH
BEGIN:VEVENT
UID:70476-20220317@harbyparishcouncil.gov.uk
DTSTAMP:20260421T082240Z
DTSTART;VALUE=DATE:20220317
DTEND;VALUE=DATE:20220318
SUMMARY:Annual Meeting of Electors &#8211\\; 17th March 2022
DESCRIPTION:Annual Parish Meeting Meeting\nView details: https://harbyparishcouncil.gov.uk/meetings/annual-meeting-17th-march-2022/
URL:https://harbyparishcouncil.gov.uk/meetings/annual-meeting-17th-march-2022/
END:VEVENT
END:VCALENDAR
