BEGIN:VCALENDAR
VERSION:2.0
PRODID:-//Harby Parish Council//Meeting Calendar//EN
CALSCALE:GREGORIAN
METHOD:PUBLISH
BEGIN:VEVENT
UID:70478-20230316@harbyparishcouncil.gov.uk
DTSTAMP:20260419T130107Z
DTSTART;VALUE=DATE:20230316
DTEND;VALUE=DATE:20230317
SUMMARY:Annual Meeting of Electors &#8211\\; 16th March 2023
DESCRIPTION:Annual Parish Meeting Meeting\nView details: https://harbyparishcouncil.gov.uk/meetings/annual-meeting-16th-march-2023/
URL:https://harbyparishcouncil.gov.uk/meetings/annual-meeting-16th-march-2023/
END:VEVENT
END:VCALENDAR
