BEGIN:VCALENDAR
VERSION:2.0
PRODID:-//Harby Parish Council//Meeting Calendar//EN
CALSCALE:GREGORIAN
METHOD:PUBLISH
BEGIN:VEVENT
UID:71097-20250327@harbyparishcouncil.gov.uk
DTSTAMP:20260419T131405Z
DTSTART;VALUE=DATE:20250327
DTEND;VALUE=DATE:20250328
SUMMARY:Annual Parish Meeting &#8211\\; 27th March 2025
DESCRIPTION:Annual Parish Meeting Meeting\nView details: https://harbyparishcouncil.gov.uk/meetings/annual-parish-meeting-27th-march-2025/
URL:https://harbyparishcouncil.gov.uk/meetings/annual-parish-meeting-27th-march-2025/
END:VEVENT
END:VCALENDAR
